BEGIN:VCALENDAR
VERSION:2.0
PRODID:http://bistummainz.de
BEGIN:VEVENT
UID:7d8b2cee-f078-11f0-bae7-0242ac11002b-1776877200000-de
DTSTAMP:20260113T120754Z
DTSTART:20260422T170000Z
DTEND:20260422T180000Z
SUMMARY;LANGUAGE=de:Ökumenisches Friedensgebet
END:VEVENT
END:VCALENDAR
