BEGIN:VCALENDAR
VERSION:2.0
PRODID:http://bistummainz.de
BEGIN:VEVENT
UID:7fededa2-f142-11f0-bae7-0242ac11002b-1776956400000-de
DTSTAMP:20260114T121356Z
DTSTART:20260423T150000Z
DTEND:20260423T160000Z
SUMMARY;LANGUAGE=de:Rosenkranzandacht
END:VEVENT
END:VCALENDAR
