BEGIN:VCALENDAR
VERSION:2.0
PRODID:http://bistummainz.de
BEGIN:VEVENT
UID:80147187-f2d3-11f0-bae7-0242ac11002b-1777132800000-de
DTSTAMP:20260116T120424Z
DTSTART:20260425T160000Z
DTEND:20260425T170000Z
SUMMARY;LANGUAGE=de:Gottesdienst - Pfr. Givens
END:VEVENT
END:VCALENDAR
