BEGIN:VCALENDAR
VERSION:2.0
PRODID:http://bistummainz.de
BEGIN:VEVENT
UID:805d5b49-3ca8-11f1-b8c9-0242ac11002b-1776747600000-de
DTSTAMP:20260420T110303Z
DTSTART:20260421T050000Z
DTEND:20260421T060000Z
SUMMARY;LANGUAGE=de:Eucharistiefeier
END:VEVENT
END:VCALENDAR
