BEGIN:VCALENDAR
VERSION:2.0
PRODID:http://bistummainz.de
BEGIN:VEVENT
UID:8097ab50-f2d3-11f0-bae7-0242ac11002b-1777130100000-de
DTSTAMP:20260116T120425Z
DTSTART:20260425T151500Z
DTEND:20260425T154500Z
SUMMARY;LANGUAGE=de:Zeit zum Sprechen im Beichtzimmer - Pfr. Givens
END:VEVENT
END:VCALENDAR
