BEGIN:VCALENDAR
VERSION:2.0
PRODID:http://bistummainz.de
BEGIN:VEVENT
UID:80d310c3-eee6-11f0-bae7-0242ac11002b-1776707100000-de
DTSTAMP:20260111T121021Z
DTSTART:20260420T174500Z
DTEND:20260420T184500Z
SUMMARY;LANGUAGE=de:Lobpreis und Anbetung
END:VEVENT
END:VCALENDAR
