BEGIN:VCALENDAR
VERSION:2.0
PRODID:http://bistummainz.de
BEGIN:VEVENT
UID:8113a82e-f142-11f0-bae7-0242ac11002b-1776960000000-de
DTSTAMP:20260114T121358Z
DTSTART:20260423T160000Z
DTEND:20260423T170000Z
SUMMARY;LANGUAGE=de:Hl. Messe, anschl. eucharistische Anbetung für den Frieden
END:VEVENT
END:VCALENDAR
