BEGIN:VCALENDAR
VERSION:2.0
PRODID:http://bistummainz.de
BEGIN:VEVENT
UID:81369983-f142-11f0-bae7-0242ac11002b-1776963600000-de
DTSTAMP:20260114T121358Z
DTSTART:20260423T170000Z
DTEND:20260423T180000Z
SUMMARY;LANGUAGE=de:Hl. Messe
DESCRIPTION;LANGUAGE=de:Wir beten für: Christa Schieler u. † Ang.
END:VEVENT
END:VCALENDAR
