BEGIN:VCALENDAR
VERSION:2.0
PRODID:http://bistummainz.de
BEGIN:VEVENT
UID:8659f692-f20b-11f0-bae7-0242ac11002b-1777046400000-de
DTSTAMP:20260115T121256Z
DTSTART:20260424T160000Z
DTEND:20260424T163000Z
SUMMARY;LANGUAGE=de:Rosenkranz
END:VEVENT
END:VCALENDAR
