BEGIN:VCALENDAR
VERSION:2.0
PRODID:http://bistummainz.de
BEGIN:VEVENT
UID:8695213f-f534-11f0-bae7-0242ac11002b-1776784500000-de
DTSTAMP:20260119T124359Z
DTSTART:20260421T151500Z
DTEND:20260421T154500Z
SUMMARY;LANGUAGE=de:Rosenkranzgebet
END:VEVENT
END:VCALENDAR
