BEGIN:VCALENDAR
VERSION:2.0
PRODID:http://bistummainz.de
BEGIN:VEVENT
UID:8a2446ee-eee5-11f0-bae7-0242ac11002b-1776708900000-de
DTSTAMP:20260111T120328Z
DTSTART:20260420T181500Z
DTEND:20260420T190000Z
SUMMARY;LANGUAGE=de:Eucharistische Anbetung
END:VEVENT
END:VCALENDAR
