BEGIN:VCALENDAR
VERSION:2.0
PRODID:http://bistummainz.de
BEGIN:VEVENT
UID:8b7ff793-efaf-11f0-bae7-0242ac11002b-1776758400000-de
DTSTAMP:20260112T120928Z
DTSTART:20260421T080000Z
DTEND:20260421T083000Z
SUMMARY;LANGUAGE=de:Eucharistiefeier
END:VEVENT
END:VCALENDAR
