BEGIN:VCALENDAR
VERSION:2.0
PRODID:http://bistummainz.de
BEGIN:VEVENT
UID:8d555583-17c2-11f1-bae7-0242ac11002b-1776774600000-de
DTSTAMP:20260304T120618Z
DTSTART:20260421T123000Z
DTEND:20260421T130000Z
SUMMARY;LANGUAGE=de:Hl. Messe ENTFÄLLT
END:VEVENT
END:VCALENDAR
