BEGIN:VCALENDAR
VERSION:2.0
PRODID:http://bistummainz.de
BEGIN:VEVENT
UID:8f6f76d9-f52f-11f0-bae7-0242ac11002b-1776789000000-de
DTSTAMP:20260119T120826Z
DTSTART:20260421T163000Z
DTEND:20260421T173000Z
SUMMARY;LANGUAGE=de:Rosenkranzgebet
END:VEVENT
END:VCALENDAR
