BEGIN:VCALENDAR
VERSION:2.0
PRODID:http://bistummainz.de
BEGIN:VEVENT
UID:905b1bfd-f20a-11f0-bae7-0242ac11002b-1777046400000-de
DTSTAMP:20260115T120603Z
DTSTART:20260424T160000Z
DTEND:20260424T170000Z
SUMMARY;LANGUAGE=de:Anbetung ENTFÄLLT HEUTE!
END:VEVENT
END:VCALENDAR
