BEGIN:VCALENDAR
VERSION:2.0
PRODID:http://bistummainz.de
BEGIN:VEVENT
UID:910b1563-f20b-11f0-bae7-0242ac11002b-1777042800000-de
DTSTAMP:20260115T121314Z
DTSTART:20260424T150000Z
DTEND:20260424T160000Z
SUMMARY;LANGUAGE=de:Hl. Messe
END:VEVENT
END:VCALENDAR
