BEGIN:VCALENDAR
VERSION:2.0
PRODID:http://bistummainz.de
BEGIN:VEVENT
UID:91ec74c7-f20b-11f0-bae7-0242ac11002b-1777046400000-de
DTSTAMP:20260115T121315Z
DTSTART:20260424T160000Z
DTEND:20260424T170000Z
SUMMARY;LANGUAGE=de:Ökumenisches Friedensgebet
END:VEVENT
END:VCALENDAR
