BEGIN:VCALENDAR
VERSION:2.0
PRODID:http://bistummainz.de
BEGIN:VEVENT
UID:92f907fe-f52e-11f0-bae7-0242ac11002b-1777390200000-de
DTSTAMP:20260119T120123Z
DTSTART:20260428T153000Z
DTEND:20260428T160000Z
SUMMARY;LANGUAGE=de:Rosenkranzgebet
END:VEVENT
END:VCALENDAR
