BEGIN:VCALENDAR
VERSION:2.0
PRODID:http://bistummainz.de
BEGIN:VEVENT
UID:93312093-ff67-11f0-bae7-0242ac11002b-1778518800000-de
DTSTAMP:20260201T121436Z
DTSTART:20260511T170000Z
DTEND:20260511T173000Z
SUMMARY;LANGUAGE=de:Medjugorje-Rosenkranz
END:VEVENT
END:VCALENDAR
