BEGIN:VCALENDAR
VERSION:2.0
PRODID:http://bistummainz.de
BEGIN:VEVENT
UID:93526436-ff67-11f0-bae7-0242ac11002b-1778508000000-de
DTSTAMP:20260201T121436Z
DTSTART:20260511T140000Z
DTEND:20260511T150000Z
SUMMARY;LANGUAGE=de:Wort-Gottes-Feier
END:VEVENT
END:VCALENDAR
