BEGIN:VCALENDAR
VERSION:2.0
PRODID:http://bistummainz.de
BEGIN:VEVENT
UID:9450a8f7-f52e-11f0-bae7-0242ac11002b-1777392000000-de
DTSTAMP:20260119T120125Z
DTSTART:20260428T160000Z
DTEND:20260428T170000Z
SUMMARY;LANGUAGE=de:Eucharistiefeier
END:VEVENT
END:VCALENDAR
