BEGIN:VCALENDAR
VERSION:2.0
PRODID:http://bistummainz.de
BEGIN:VEVENT
UID:94b42f11-f141-11f0-bae7-0242ac11002b-1776925800000-de
DTSTAMP:20260114T120721Z
DTSTART:20260423T063000Z
DTEND:20260423T070000Z
SUMMARY;LANGUAGE=de:Rosenkranzgebet
END:VEVENT
END:VCALENDAR
