BEGIN:VCALENDAR
VERSION:2.0
PRODID:http://bistummainz.de
BEGIN:VEVENT
UID:96406a4f-f52e-11f0-bae7-0242ac11002b-1777394700000-de
DTSTAMP:20260119T120128Z
DTSTART:20260428T164500Z
DTEND:20260428T174500Z
SUMMARY;LANGUAGE=de:Ökumenisches Friedensgebet
END:VEVENT
END:VCALENDAR
