BEGIN:VCALENDAR
VERSION:2.0
PRODID:http://bistummainz.de
BEGIN:VEVENT
UID:97ff5845-38f6-11f1-b8c9-0242ac11002b-1777636800000-de
DTSTAMP:20260415T181158Z
DTSTART:20260501T120000Z
DTEND:20260501T130000Z
SUMMARY;LANGUAGE=de:Maiandacht
END:VEVENT
END:VCALENDAR
