BEGIN:VCALENDAR
VERSION:2.0
PRODID:http://bistummainz.de
BEGIN:VEVENT
UID:98bb1d45-efaf-11f0-bae7-0242ac11002b-1776753000000-de
DTSTAMP:20260112T120950Z
DTSTART:20260421T063000Z
DTEND:20260421T070000Z
SUMMARY;LANGUAGE=de:Rosenkranzandacht
END:VEVENT
END:VCALENDAR
