BEGIN:VCALENDAR
VERSION:2.0
PRODID:http://bistummainz.de
BEGIN:VEVENT
UID:9a5878c2-398c-11f1-b8c9-0242ac11002b-1776765600000-de
DTSTAMP:20260416T120547Z
DTSTART:20260421T100000Z
SUMMARY;LANGUAGE=de:Ende des Großen Gebetes
END:VEVENT
END:VCALENDAR
