BEGIN:VCALENDAR
VERSION:2.0
PRODID:http://bistummainz.de
BEGIN:VEVENT
UID:9afebe99-f2d4-11f0-bae7-0242ac11002b-1777125600000-de
DTSTAMP:20260116T121219Z
DTSTART:20260425T140000Z
DTEND:20260425T150000Z
SUMMARY;LANGUAGE=de:Beichtgelegenheit nach telefonischer Absprache
END:VEVENT
END:VCALENDAR
