BEGIN:VCALENDAR
VERSION:2.0
PRODID:http://bistummainz.de
BEGIN:VEVENT
UID:9c0ee24e-02c5-11f1-bae7-0242ac11002b-1776759300000-de
DTSTAMP:20260205T190517Z
DTSTART:20260421T081500Z
DTEND:20260421T091500Z
SUMMARY;LANGUAGE=de:Wortgottesfeier
END:VEVENT
END:VCALENDAR
