BEGIN:VCALENDAR
VERSION:2.0
PRODID:http://bistummainz.de
BEGIN:VEVENT
UID:9e0a5268-f141-11f0-bae7-0242ac11002b-1776961800000-de
DTSTAMP:20260114T120737Z
DTSTART:20260423T163000Z
DTEND:20260423T173000Z
SUMMARY;LANGUAGE=de:Eucharistiefeier
END:VEVENT
END:VCALENDAR
