BEGIN:VCALENDAR
VERSION:2.0
PRODID:http://bistummainz.de
BEGIN:VEVENT
UID:9e6d7288-f5f9-11f0-bae7-0242ac11002b-1777480200000-de
DTSTAMP:20260120T121450Z
DTSTART:20260429T163000Z
DTEND:20260429T173000Z
SUMMARY;LANGUAGE=de:Eucharistiefeier
END:VEVENT
END:VCALENDAR
