BEGIN:VCALENDAR
VERSION:2.0
PRODID:http://bistummainz.de
BEGIN:VEVENT
UID:9ed9d75a-fab0-11f0-bae7-0242ac11002b-1777998600000-de
DTSTAMP:20260126T121453Z
DTSTART:20260505T163000Z
DTEND:20260505T173000Z
SUMMARY;LANGUAGE=de:Eucharistiefeier
END:VEVENT
END:VCALENDAR
