BEGIN:VCALENDAR
VERSION:2.0
PRODID:http://bistummainz.de
BEGIN:VEVENT
UID:9f36dd0e-f5f9-11f0-bae7-0242ac11002b-1777478400000-de
DTSTAMP:20260120T121451Z
DTSTART:20260429T160000Z
DTEND:20260429T163000Z
SUMMARY;LANGUAGE=de:Rosenkranz
END:VEVENT
END:VCALENDAR
