BEGIN:VCALENDAR
VERSION:2.0
PRODID:http://bistummainz.de
BEGIN:VEVENT
UID:9f4ee04d-fab0-11f0-bae7-0242ac11002b-1777996800000-de
DTSTAMP:20260126T121454Z
DTSTART:20260505T160000Z
DTEND:20260505T163000Z
SUMMARY;LANGUAGE=de:Rosenkranz
END:VEVENT
END:VCALENDAR
