BEGIN:VCALENDAR
VERSION:2.0
PRODID:http://bistummainz.de
BEGIN:VEVENT
UID:a01de64f-041e-11f1-bae7-0242ac11002b-1779004800000-de
DTSTAMP:20260207T121500Z
DTSTART:20260517T080000Z
DTEND:20260517T090000Z
SUMMARY;LANGUAGE=de:Eucharistiefeier
DESCRIPTION;LANGUAGE=de:Im Anschluss Bistro im Haus Sebastian.
END:VEVENT
END:VCALENDAR
