BEGIN:VCALENDAR
VERSION:2.0
PRODID:http://bistummainz.de
BEGIN:VEVENT
UID:a0aabd06-041e-11f1-bae7-0242ac11002b-1779017400000-de
DTSTAMP:20260207T121501Z
DTSTART:20260517T113000Z
DTEND:20260517T120000Z
SUMMARY;LANGUAGE=de:Rosenkranz
END:VEVENT
END:VCALENDAR
