BEGIN:VCALENDAR
VERSION:2.0
PRODID:http://bistummainz.de
BEGIN:VEVENT
UID:a1c8d73a-041e-11f1-bae7-0242ac11002b-1779004800000-de
DTSTAMP:20260207T121503Z
DTSTART:20260517T080000Z
DTEND:20260517T090000Z
SUMMARY;LANGUAGE=de:Kinderwortgottesdienst
END:VEVENT
END:VCALENDAR
