BEGIN:VCALENDAR
VERSION:2.0
PRODID:http://bistummainz.de
BEGIN:VEVENT
UID:a32d8c41-02c5-11f1-bae7-0242ac11002b-1776780000000-de
DTSTAMP:20260205T190529Z
DTSTART:20260421T140000Z
DTEND:20260421T150000Z
SUMMARY;LANGUAGE=de:Wortgottesfeier
END:VEVENT
END:VCALENDAR
