BEGIN:VCALENDAR
VERSION:2.0
PRODID:http://bistummainz.de
BEGIN:VEVENT
UID:afc29cb0-f39c-11f0-bae7-0242ac11002b-1777191300000-de
DTSTAMP:20260117T120433Z
DTSTART:20260426T081500Z
DTEND:20260426T091500Z
SUMMARY;LANGUAGE=de:Gottesdienst - Livestream - Pfr. Givens
END:VEVENT
END:VCALENDAR
