BEGIN:VCALENDAR
VERSION:2.0
PRODID:http://bistummainz.de
BEGIN:VEVENT
UID:b0d174a6-f39c-11f0-bae7-0242ac11002b-1777191300000-de
DTSTAMP:20260117T120435Z
DTSTART:20260426T081500Z
DTEND:20260426T084500Z
SUMMARY;LANGUAGE=de:Gottesdienst für die Heimbewohner - H. Fieseler
END:VEVENT
END:VCALENDAR
