BEGIN:VCALENDAR
VERSION:2.0
PRODID:http://bistummainz.de
BEGIN:VEVENT
UID:b485389e-f39d-11f0-bae7-0242ac11002b-1777186800000-de
DTSTAMP:20260117T121151Z
DTSTART:20260426T070000Z
DTEND:20260426T080000Z
SUMMARY;LANGUAGE=de:5. Weggottesdienst KomKi als Eucharistiefeier
END:VEVENT
END:VCALENDAR
