BEGIN:VCALENDAR
VERSION:2.0
PRODID:http://bistummainz.de
BEGIN:VEVENT
UID:b5302ebb-0030-11f1-bae7-0242ac11002b-1778603400000-de
DTSTAMP:20260202T121422Z
DTSTART:20260512T163000Z
DTEND:20260512T173000Z
SUMMARY;LANGUAGE=de:Eucharistiefeier
END:VEVENT
END:VCALENDAR
