BEGIN:VCALENDAR
VERSION:2.0
PRODID:http://bistummainz.de
BEGIN:VEVENT
UID:b5778980-f20a-11f0-bae7-0242ac11002b-1777043700000-de
DTSTAMP:20260115T120705Z
DTSTART:20260424T151500Z
DTEND:20260424T154500Z
SUMMARY;LANGUAGE=de:Anbetung des Allerheiligsten in den Anliegen unserer Zeit
END:VEVENT
END:VCALENDAR
