BEGIN:VCALENDAR
VERSION:2.0
PRODID:http://bistummainz.de
BEGIN:VEVENT
UID:b5c7b3d4-0030-11f1-bae7-0242ac11002b-1778601600000-de
DTSTAMP:20260202T121423Z
DTSTART:20260512T160000Z
DTEND:20260512T163000Z
SUMMARY;LANGUAGE=de:Rosenkranz
END:VEVENT
END:VCALENDAR
