BEGIN:VCALENDAR
VERSION:2.0
PRODID:http://bistummainz.de
BEGIN:VEVENT
UID:b9e828da-ee1c-11f0-bae7-0242ac11002b-1776618000000-de
DTSTAMP:20260110T120559Z
DTSTART:20260419T170000Z
DTEND:20260419T180000Z
SUMMARY;LANGUAGE=de:Eucharistiefeier
END:VEVENT
END:VCALENDAR
