BEGIN:VCALENDAR
VERSION:2.0
PRODID:http://bistummainz.de
BEGIN:VEVENT
UID:ba80bf63-ee1c-11f0-bae7-0242ac11002b-1776621600000-de
DTSTAMP:20260110T120600Z
DTSTART:20260419T180000Z
DTEND:20260419T190000Z
SUMMARY;LANGUAGE=de:Eucharistiefeier in polnischer Sprache
END:VEVENT
END:VCALENDAR
