BEGIN:VCALENDAR
VERSION:2.0
PRODID:http://bistummainz.de
BEGIN:VEVENT
UID:bb43ea32-f5f8-11f0-bae7-0242ac11002b-1776841200000-de
DTSTAMP:20260120T120829Z
DTSTART:20260422T070000Z
DTEND:20260422T080000Z
SUMMARY;LANGUAGE=de:Eucharistiefeier
END:VEVENT
END:VCALENDAR
