BEGIN:VCALENDAR
VERSION:2.0
PRODID:http://bistummainz.de
BEGIN:VEVENT
UID:bcc88e99-f5f8-11f0-bae7-0242ac11002b-1776877200000-de
DTSTAMP:20260120T120831Z
DTSTART:20260422T170000Z
DTEND:20260422T180000Z
SUMMARY;LANGUAGE=de:Eucharistische Anbetung
END:VEVENT
END:VCALENDAR
