BEGIN:VCALENDAR
VERSION:2.0
PRODID:http://bistummainz.de
BEGIN:VEVENT
UID:bd093f17-ee1c-11f0-bae7-0242ac11002b-1776614400000-de
DTSTAMP:20260110T120604Z
DTSTART:20260419T160000Z
DTEND:20260419T170000Z
SUMMARY;LANGUAGE=de:Eucharistiefeier in polnischer Sprache
END:VEVENT
END:VCALENDAR
