BEGIN:VCALENDAR
VERSION:2.0
PRODID:http://bistummainz.de
BEGIN:VEVENT
UID:bd1d339a-f5f7-11f0-bae7-0242ac11002b-1777446000000-de
DTSTAMP:20260120T120122Z
DTSTART:20260429T070000Z
DTEND:20260429T080000Z
SUMMARY;LANGUAGE=de:Eucharistiefeier
END:VEVENT
END:VCALENDAR
