BEGIN:VCALENDAR
VERSION:2.0
PRODID:http://bistummainz.de
BEGIN:VEVENT
UID:bdc5553c-f2d4-11f0-bae7-0242ac11002b-1777131000000-de
DTSTAMP:20260116T121317Z
DTSTART:20260425T153000Z
DTEND:20260425T160000Z
SUMMARY;LANGUAGE=de:Aussetzung des Allerheiligsten mit stiller Anbetung
END:VEVENT
END:VCALENDAR
